BEGIN:VCALENDAR
VERSION:2.0
PRODID:-//Lemon Road Trip - Bienvenido - ECPv6.13.2.1//NONSGML v1.0//EN
CALSCALE:GREGORIAN
METHOD:PUBLISH
X-WR-CALNAME:Lemon Road Trip - Bienvenido
X-ORIGINAL-URL:https://lemonroadtrip.com
X-WR-CALDESC:Eventos para Lemon Road Trip - Bienvenido
REFRESH-INTERVAL;VALUE=DURATION:PT1H
X-Robots-Tag:noindex
X-PUBLISHED-TTL:PT1H
BEGIN:VTIMEZONE
TZID:America/Bogota
BEGIN:STANDARD
TZOFFSETFROM:-0500
TZOFFSETTO:-0500
TZNAME:-05
DTSTART:20240101T000000
END:STANDARD
END:VTIMEZONE
BEGIN:VEVENT
DTSTART;TZID=America/Bogota:20240902T050000
DTEND;TZID=America/Bogota:20240907T140000
DTSTAMP:20260417T193459
CREATED:20240306T021207Z
LAST-MODIFIED:20240310T222659Z
UID:11568-1725253200-1725717600@lemonroadtrip.com
SUMMARY:Amazing West 2 al 7 de septiembre 2024 / Road Trip en RV Camp por Nevada – Utah y Arizona
DESCRIPTION:¡Embárcate en la experiencia Amazing West del 2 al 7 de septiembre! 🚌🏞️ Descubre la magia de los parajes más icónicos del oeste de Estados Unidos junto a nuestro equipo de expertos guías. Desde el Gran Cañón hasta Bryce Canyon y el Valle del Fuego\, esta aventura te llevará a explorar paisajes de ensueño y a vivir momentos inolvidables. ¡Reserva ahora y prepárate para una experiencia que cambiará tu vida! \nLa experiencia incluye 👇🏼 \n☀️ 6 días / 5 noches\n🚌 Transporte en nuestro Motor Home\n🎟️ Entradas a los parques naturales\n🛡 Póliza de seguros\n🍲 Alimentación (desayuno y cena)\n🥤 Hidratación y snacks\n😴 Hospedaje dentro del Motor Home\n🏕️ Actividades de integración \n📍 Visitaremos: el Gran Cañón\, Sedona\, Bryce Canyon\, Zion National Park\, Kanarra Falls\, Coral Pink Sand Dunes State Park\, el Valle del Fuego \n*Valor por persona 👉 1\,500 USD* \n🚫 NO incluye tiquetes aéreos \n  \n 
URL:https://lemonroadtrip.com/eventos/amazing-west-2-al-7-de-septiembre-2024-road-trip-en-rv-camp-por-nevada-utah-y-arizona/
CATEGORIES:Road Trip
ATTACH;FMTTYPE=image/jpeg:https://lemonroadtrip.com/wp-content/uploads/2024/03/2-7-septiembre.jpg
END:VEVENT
BEGIN:VEVENT
DTSTART;TZID=America/Bogota:20240916T050000
DTEND;TZID=America/Bogota:20240921T170000
DTSTAMP:20260417T193459
CREATED:20240426T211042Z
LAST-MODIFIED:20240426T211042Z
UID:11676-1726462800-1726938000@lemonroadtrip.com
SUMMARY:Amazing West del 16 al 21 de septiembre de 2024 junto a Familia Sin Fronteras / Road Trip en RV Camp por Nevada – Utah y Arizona / Gran Cañón\, Sedona\, Zion National Park
DESCRIPTION:¡Embárcate en una aventura inolvidable por el Oeste de Estados Unidos junto a @familiasinfronteras! Del 16 al 21 de septiembre de 2024\, te invitamos a descubrir los paisajes más impresionantes y emblemáticos de la región en nuestra experiencia Amazing West. Desde majestuosos parques nacionales hasta vibrantes ciudades\, te esperan días llenos de emoción y diversión. Únete a nosotros y crea recuerdos inolvidables mientras exploramos juntos el increíble Oeste americano. ¡Reserva ahora y asegura tu lugar en esta aventura única! \nLa experiencia incluye 👇🏼 \n☀️ 6 días / 5 noches\n🚌 Transporte en nuestro Motor Home\n🎟️ Entradas a los parques naturales\n🛡 Póliza de seguros\n🍲 Alimentación (desayuno y cena)\n🥤 Hidratación y snacks\n😴 Hospedaje dentro del Motor Home\n🏕️ Actividades de integración \n📍 Visitaremos: el Gran Cañón\, Sedona\, Bryce Canyon\, Zion National Park\, Kanarra Falls\, Coral Pink Sand Dunes State Park\, el Valle del Fuego \n*Valor por persona 👉 1\,500 USD* \n🚫 NO incluye tiquetes aéreos \n  \n 
URL:https://lemonroadtrip.com/eventos/amazing-west-del-16-al-21-de-septiembre-de-2024-junto-a-familia-sin-fronteras-road-trip-en-rv-camp-por-nevada-utah-y-arizona-gran-canon-sedona-zion-national-park/
CATEGORIES:Parques Naturales,Road Trip
ATTACH;FMTTYPE=image/jpeg:https://lemonroadtrip.com/wp-content/uploads/2024/04/16-al-21-de-septiembre-familia-sin-fronteras.jpg
END:VEVENT
BEGIN:VEVENT
DTSTART;TZID=America/Bogota:20240923T050000
DTEND;TZID=America/Bogota:20240928T140000
DTSTAMP:20260417T193459
CREATED:20240306T022342Z
LAST-MODIFIED:20240310T222609Z
UID:11575-1727067600-1727532000@lemonroadtrip.com
SUMMARY:Amazing West 23 al 28 de septiembre 2024 / Road Trip en RV Camp por Nevada – Utah y Arizona
DESCRIPTION:¡Únete a nuestra experiencia Amazing West del 23 al 28 de septiembre y descubre la grandeza del oeste de Estados Unidos! Desde la majestuosidad del Gran Cañón hasta la imponente belleza de Bryce Canyon\, los fascinantes paisajes de Sedona y el Valle del Fuego\, y los vibrantes colores de Zion National Park\, este viaje te llevará a explorar lo mejor de la naturaleza. Acompañados por nuestros expertos guías\, cada día será una nueva aventura llena de momentos inolvidables. ¡Reserva ahora y prepárate para una experiencia que cambiará tu perspectiva del mundo! \nLa experiencia incluye 👇🏼 \n☀️ 6 días / 5 noches\n🚌 Transporte en nuestro Motor Home\n🎟️ Entradas a los parques naturales\n🛡 Póliza de seguros\n🍲 Alimentación (desayuno y cena)\n🥤 Hidratación y snacks\n😴 Hospedaje dentro del Motor Home\n🏕️ Actividades de integración \n📍 Visitaremos: el Gran Cañón\, Sedona\, Bryce Canyon\, Zion National Park\, Kanarra Falls\, Coral Pink Sand Dunes State Park\, el Valle del Fuego \n*Valor por persona 👉 1\,500 USD* \n🚫 NO incluye tiquetes aéreos \n  \n 
URL:https://lemonroadtrip.com/eventos/amazing-west-23-al-28-de-septiembre-2024-road-trip-en-rv-camp-por-nevada-utah-y-arizona/
CATEGORIES:Road Trip
ATTACH;FMTTYPE=image/jpeg:https://lemonroadtrip.com/wp-content/uploads/2024/03/23-28-septiembre.jpg
END:VEVENT
END:VCALENDAR