BEGIN:VCALENDAR
VERSION:2.0
PRODID:-//Lemon Road Trip - Bienvenido - ECPv6.13.2.1//NONSGML v1.0//EN
CALSCALE:GREGORIAN
METHOD:PUBLISH
X-ORIGINAL-URL:https://lemonroadtrip.com
X-WR-CALDESC:Eventos para Lemon Road Trip - Bienvenido
REFRESH-INTERVAL;VALUE=DURATION:PT1H
X-Robots-Tag:noindex
X-PUBLISHED-TTL:PT1H
BEGIN:VTIMEZONE
TZID:America/Bogota
BEGIN:STANDARD
TZOFFSETFROM:-0500
TZOFFSETTO:-0500
TZNAME:-05
DTSTART:20240101T000000
END:STANDARD
END:VTIMEZONE
BEGIN:VEVENT
DTSTART;TZID=America/Bogota:20240520T050000
DTEND;TZID=America/Bogota:20240525T150000
DTSTAMP:20260421T002643
CREATED:20240310T220206Z
LAST-MODIFIED:20240310T221115Z
UID:11604-1716181200-1716649200@lemonroadtrip.com
SUMMARY:California Dreams 20 al 25 de mayo 2024 / Road Trip en RV Camp por California
DESCRIPTION:¡Prepárate para vivir tus sueños en California con Lemon Road Trip! Del 20 al 25 de mayo\, te llevaremos en un viaje único a bordo de una casa rodante\, explorando las playas doradas\, las ciudades vibrantes y los paisajes de ensueño del hermoso estado de California. Desde puestas de sol en la costa hasta noches llenas de magia en la ciudad\, esta experiencia será todo lo que siempre soñaste. ¡No te pierdas esta oportunidad de vivir la aventura en California con nosotros! 🌴🚌✨\n\nEsta experiencia incluye👇🏼 \n☀️ 6 días / 5 noches\n🚌 Transporte en nuestro Motor Home\n🎟️ Entradas a parques naturales\n🍲 Alimentación (desayuno y cena)\n🥤 Hidratación y snacks\n😴 Hospedaje en el Motor Home\n🏕️ Actividades de integración \n🛣️ Comenzamos y terminamos en San Francisco\, California. \n📍 Visitaremos: Yosemite National Park\, el Golden Bridge\, viñedos de Napa Valley\, Lake Tahoe\, Eagle Lake\, Mariposa Groove\, Vernal Fall\, Big Sur (Carmel City y Monterrey) y más. \nPrecio por persona 👉 1800 USD \n🚫 Tiquetes aéreos no incluidos. \n¡Te esperamos con los brazos abiertos para vivir esta experiencia única! 🧭🚌💨 \n 
URL:https://lemonroadtrip.com/eventos/california-dreams-20-al-25-de-mayo-2024-road-trip-en-rv-camp-por-california/
CATEGORIES:Road Trip
ATTACH;FMTTYPE=image/jpeg:https://lemonroadtrip.com/wp-content/uploads/2024/03/20-25-de-mayo.jpg
END:VEVENT
END:VCALENDAR