BEGIN:VCALENDAR
VERSION:2.0
PRODID:-//Lemon Road Trip - Bienvenido - ECPv6.13.2.1//NONSGML v1.0//EN
CALSCALE:GREGORIAN
METHOD:PUBLISH
X-WR-CALNAME:Lemon Road Trip - Bienvenido
X-ORIGINAL-URL:https://lemonroadtrip.com
X-WR-CALDESC:Eventos para Lemon Road Trip - Bienvenido
REFRESH-INTERVAL;VALUE=DURATION:PT1H
X-Robots-Tag:noindex
X-PUBLISHED-TTL:PT1H
BEGIN:VTIMEZONE
TZID:America/Bogota
BEGIN:STANDARD
TZOFFSETFROM:-0500
TZOFFSETTO:-0500
TZNAME:-05
DTSTART:20240101T000000
END:STANDARD
END:VTIMEZONE
BEGIN:VEVENT
DTSTART;TZID=America/Bogota:20240722T050000
DTEND;TZID=America/Bogota:20240727T150000
DTSTAMP:20260420T224750
CREATED:20240310T221155Z
LAST-MODIFIED:20240310T221245Z
UID:11607-1721624400-1722092400@lemonroadtrip.com
SUMMARY:California Dreams 22 al 27 de julio 2024 / Road Trip en RV Camp por California
DESCRIPTION:¡Prepárate para un viaje inolvidable por la costa oeste de Estados Unidos con nuestra experiencia California Dreams del 22 al 27 de julio! 🌟🚐 Disfruta de un emocionante road trip en casa rodante mientras exploramos las icónicas playas de Big Sur\, nos maravillamos con los impresionantes paisajes del Parque Nacional de Yosemite y vivimos momentos mágicos en los destinos más emblemáticos de California. 🏖️🏞️ No te pierdas la oportunidad de vivir una aventura única llena de diversión\, naturaleza y experiencias inolvidables. ¡Reserva ahora y únete a este viaje de ensueño con Lemon Road Trip! \nEsta experiencia incluye👇🏼 \n☀️ 6 días / 5 noches\n🚌 Transporte en nuestro Motor Home\n🎟️ Entradas a parques naturales\n🍲 Alimentación (desayuno y cena)\n🥤 Hidratación y snacks\n😴 Hospedaje en el Motor Home\n🏕️ Actividades de integración \n🛣️ Comenzamos y terminamos en San Francisco\, California. \n📍 Visitaremos: Yosemite National Park\, el Golden Bridge\, viñedos de Napa Valley\, Lake Tahoe\, Eagle Lake\, Mariposa Groove\, Vernal Fall\, Big Sur (Carmel City y Monterrey) y más. \nPrecio por persona 👉 1800 USD \n🚫 Tiquetes aéreos no incluidos. \n¡Te esperamos con los brazos abiertos para vivir esta experiencia única! 🧭🚌💨 \n 
URL:https://lemonroadtrip.com/eventos/california-dreams-22-al-27-de-julio-2024-road-trip-en-rv-camp-por-california/
CATEGORIES:Road Trip
ATTACH;FMTTYPE=image/jpeg:https://lemonroadtrip.com/wp-content/uploads/2024/03/22-27-julio.jpg
END:VEVENT
END:VCALENDAR