BEGIN:VCALENDAR
VERSION:2.0
PRODID:-//Lemon Road Trip - Bienvenido - ECPv6.13.2.1//NONSGML v1.0//EN
CALSCALE:GREGORIAN
METHOD:PUBLISH
X-ORIGINAL-URL:https://lemonroadtrip.com
X-WR-CALDESC:Eventos para Lemon Road Trip - Bienvenido
REFRESH-INTERVAL;VALUE=DURATION:PT1H
X-Robots-Tag:noindex
X-PUBLISHED-TTL:PT1H
BEGIN:VTIMEZONE
TZID:America/Bogota
BEGIN:STANDARD
TZOFFSETFROM:-0500
TZOFFSETTO:-0500
TZNAME:-05
DTSTART:20240101T000000
END:STANDARD
END:VTIMEZONE
BEGIN:VEVENT
DTSTART;TZID=America/Bogota:20240812T050000
DTEND;TZID=America/Bogota:20240817T150000
DTSTAMP:20260420T204722
CREATED:20240310T221810Z
LAST-MODIFIED:20240310T221810Z
UID:11612-1723438800-1723906800@lemonroadtrip.com
SUMMARY:California Dreams 12 al 17 de agosto 2024 / Road Trip en RV Camp por California
DESCRIPTION:¡Prepárate para vivir una experiencia inolvidable en la costa oeste de Estados Unidos con nuestra aventura California Dreams del 12 al 17 de agosto! 🌟🚐 Disfruta de un emocionante road trip en casa rodante mientras exploramos las espectaculares playas de Big Sur\, nos maravillamos con los majestuosos paisajes del Parque Nacional de Yosemite y nos sumergimos en la vibrante energía de San Francisco. 🏖️🏞️ No te pierdas la oportunidad de crear recuerdos inolvidables en compañía de Lemon Road Trip. ¡Reserva ahora y únete a esta emocionante aventura! \nEsta experiencia incluye👇🏼 \n☀️ 6 días / 5 noches\n🚌 Transporte en nuestro Motor Home\n🎟️ Entradas a parques naturales\n🍲 Alimentación (desayuno y cena)\n🥤 Hidratación y snacks\n😴 Hospedaje en el Motor Home\n🏕️ Actividades de integración \n🛣️ Comenzamos y terminamos en San Francisco\, California. \n📍 Visitaremos: Yosemite National Park\, el Golden Bridge\, viñedos de Napa Valley\, Lake Tahoe\, Eagle Lake\, Mariposa Groove\, Vernal Fall\, Big Sur (Carmel City y Monterrey) y más. \nPrecio por persona 👉 1800 USD \n🚫 Tiquetes aéreos no incluidos. \n¡Te esperamos con los brazos abiertos para vivir esta experiencia única! 🧭🚌💨 \n 
URL:https://lemonroadtrip.com/eventos/california-dreams-12-al-17-de-agosto-2024-road-trip-en-rv-camp-por-california/
CATEGORIES:Road Trip
ATTACH;FMTTYPE=image/jpeg:https://lemonroadtrip.com/wp-content/uploads/2024/03/12-17-agosto.jpg
END:VEVENT
END:VCALENDAR