BEGIN:VCALENDAR
VERSION:2.0
PRODID:-//Lemon Road Trip - Bienvenido - ECPv6.13.2.1//NONSGML v1.0//EN
CALSCALE:GREGORIAN
METHOD:PUBLISH
X-WR-CALNAME:Lemon Road Trip - Bienvenido
X-ORIGINAL-URL:https://lemonroadtrip.com
X-WR-CALDESC:Eventos para Lemon Road Trip - Bienvenido
REFRESH-INTERVAL;VALUE=DURATION:PT1H
X-Robots-Tag:noindex
X-PUBLISHED-TTL:PT1H
BEGIN:VTIMEZONE
TZID:America/Bogota
BEGIN:STANDARD
TZOFFSETFROM:-0500
TZOFFSETTO:-0500
TZNAME:-05
DTSTART:20240101T000000
END:STANDARD
END:VTIMEZONE
BEGIN:VEVENT
DTSTART;TZID=America/Bogota:20240903T060000
DTEND;TZID=America/Bogota:20240908T170000
DTSTAMP:20260420T190137
CREATED:20240416T150750Z
LAST-MODIFIED:20240416T150750Z
UID:11661-1725343200-1725814800@lemonroadtrip.com
SUMMARY:California Dreams 3 al 8 de septiembre 2024 junto a Lucho Sierra / Road Trip en RV Camp por California - Yosemite National Park - Big Sur - San Francisco
DESCRIPTION:¡La experiencia California Dreams junto a Lucho Sierra está de vuelta! Del 3 al 8 de septiembre\, prepárate para un viaje inolvidable por la costa oeste de Estados Unidos. Únete a nosotros en este emocionante road trip y descubre los lugares más icónicos de California\, desde las impresionantes playas de Big Sur hasta los vibrantes paisajes de Yosemite. Sumérgete en la cultura\, la música y la naturaleza de este increíble destino mientras compartes esta aventura con Lucho Sierra y la comunidad de Lemon Road Trip. ¡Reserva ahora y únete a nosotros en esta experiencia única! \nEsta experiencia incluye👇🏼 \n☀️ 6 días / 5 noches\n🚌 Transporte en nuestro Motor Home\n🎟️ Entradas a parques naturales\n🍲 Alimentación (desayuno y cena)\n🥤 Hidratación y snacks\n😴 Hospedaje en el Motor Home\n🏕️ Actividades de integración \n🛣️ Comenzamos y terminamos en San Francisco\, California. \n📍 Visitaremos: Yosemite National Park\, el Golden Bridge\, viñedos de Napa Valley\, Lake Tahoe\, Eagle Lake\, Mariposa Groove\, Vernal Fall\, Big Sur (Carmel City y Monterrey) y más. \nPrecio por persona 👉 1800 USD \n🚫 Tiquetes aéreos no incluidos. \n¡Te esperamos con los brazos abiertos para vivir esta experiencia única! 🧭🚌💨 \n 
URL:https://lemonroadtrip.com/eventos/california-dreams-3-al-8-de-septiembre-2024-junto-a-lucho-sierra-road-trip-en-rv-camp-por-california-yosemite-national-park-big-sur-san-francisco/
CATEGORIES:Parques Naturales,Road Trip
ATTACH;FMTTYPE=image/jpeg:https://lemonroadtrip.com/wp-content/uploads/2024/04/3-8-septiembre.jpg
END:VEVENT
END:VCALENDAR